BEGIN:VCALENDAR
VERSION:2.0
PRODID:-//The Reserve on Higgins Creek - ECPv6.15.20//NONSGML v1.0//EN
CALSCALE:GREGORIAN
METHOD:PUBLISH
X-WR-CALNAME:The Reserve on Higgins Creek
X-ORIGINAL-URL:https://spearfishreserve.com
X-WR-CALDESC:Events for The Reserve on Higgins Creek
REFRESH-INTERVAL;VALUE=DURATION:PT1H
X-Robots-Tag:noindex
X-PUBLISHED-TTL:PT1H
BEGIN:VTIMEZONE
TZID:America/Denver
BEGIN:DAYLIGHT
TZOFFSETFROM:-0700
TZOFFSETTO:-0600
TZNAME:MDT
DTSTART:20230312T090000
END:DAYLIGHT
BEGIN:STANDARD
TZOFFSETFROM:-0600
TZOFFSETTO:-0700
TZNAME:MST
DTSTART:20231105T080000
END:STANDARD
BEGIN:DAYLIGHT
TZOFFSETFROM:-0700
TZOFFSETTO:-0600
TZNAME:MDT
DTSTART:20240310T090000
END:DAYLIGHT
BEGIN:STANDARD
TZOFFSETFROM:-0600
TZOFFSETTO:-0700
TZNAME:MST
DTSTART:20241103T080000
END:STANDARD
BEGIN:DAYLIGHT
TZOFFSETFROM:-0700
TZOFFSETTO:-0600
TZNAME:MDT
DTSTART:20250309T090000
END:DAYLIGHT
BEGIN:STANDARD
TZOFFSETFROM:-0600
TZOFFSETTO:-0700
TZNAME:MST
DTSTART:20251102T080000
END:STANDARD
END:VTIMEZONE
BEGIN:VEVENT
DTSTART;TZID=America/Denver:20240615T080000
DTEND;TZID=America/Denver:20240615T170000
DTSTAMP:20260421T034718
CREATED:20240411T215345Z
LAST-MODIFIED:20240528T023500Z
UID:725-1718438400-1718470800@spearfishreserve.com
SUMMARY:First Annual Reserve Garage Sale 6/15
DESCRIPTION:The First Annual Reserve Garage Sale has been set for June 15\, 2024
URL:https://spearfishreserve.com/event/first-annual-reserve-garage-sale-6-15/
END:VEVENT
BEGIN:VEVENT
DTSTART;TZID=America/Denver:20240610T180000
DTEND;TZID=America/Denver:20240610T193000
DTSTAMP:20260421T034718
CREATED:20240610T011836Z
LAST-MODIFIED:20240610T011836Z
UID:765-1718042400-1718047800@spearfishreserve.com
SUMMARY:Meeting to Discuss Covenants
DESCRIPTION:
URL:https://spearfishreserve.com/event/meeting-to-discuss-covenants/
END:VEVENT
BEGIN:VEVENT
DTSTART;TZID=America/Denver:20240522T180000
DTEND;TZID=America/Denver:20240522T193000
DTSTAMP:20260421T034718
CREATED:20240120T225212Z
LAST-MODIFIED:20240120T225212Z
UID:644-1716400800-1716406200@spearfishreserve.com
SUMMARY:Annual Meeting
DESCRIPTION:
URL:https://spearfishreserve.com/event/annual-meeting-2/
END:VEVENT
BEGIN:VEVENT
DTSTART;TZID=America/Denver:20240424T180000
DTEND;TZID=America/Denver:20240424T193000
DTSTAMP:20260421T034718
CREATED:20240120T225139Z
LAST-MODIFIED:20240120T225139Z
UID:642-1713981600-1713987000@spearfishreserve.com
SUMMARY:Board Meeting
DESCRIPTION:
URL:https://spearfishreserve.com/event/board-meeting-17/
END:VEVENT
BEGIN:VEVENT
DTSTART;TZID=America/Denver:20240327T180000
DTEND;TZID=America/Denver:20240327T193000
DTSTAMP:20260421T034718
CREATED:20240120T225101Z
LAST-MODIFIED:20240120T225101Z
UID:640-1711562400-1711567800@spearfishreserve.com
SUMMARY:Board Meeting
DESCRIPTION:
URL:https://spearfishreserve.com/event/board-meeting-16/
END:VEVENT
BEGIN:VEVENT
DTSTART;TZID=America/Denver:20240228T180000
DTEND;TZID=America/Denver:20240228T193000
DTSTAMP:20260421T034718
CREATED:20240120T224958Z
LAST-MODIFIED:20240120T224958Z
UID:638-1709143200-1709148600@spearfishreserve.com
SUMMARY:Board Meeting
DESCRIPTION:
URL:https://spearfishreserve.com/event/board-meeting-15/
END:VEVENT
BEGIN:VEVENT
DTSTART;TZID=America/Denver:20240123T180000
DTEND;TZID=America/Denver:20240123T193000
DTSTAMP:20260421T034718
CREATED:20240120T224906Z
LAST-MODIFIED:20240120T224906Z
UID:636-1706032800-1706038200@spearfishreserve.com
SUMMARY:Board Meeting
DESCRIPTION:
URL:https://spearfishreserve.com/event/board-meeting-14/
END:VEVENT
END:VCALENDAR